BEGIN:VCALENDAR
VERSION:2.0
PRODID:-//Δήμος Ηρ.Ν.Κάσου - ECPv6.15.14//NONSGML v1.0//EN
CALSCALE:GREGORIAN
METHOD:PUBLISH
X-ORIGINAL-URL:https://kasos-heroicisland.gr
X-WR-CALDESC:Events for Δήμος Ηρ.Ν.Κάσου
REFRESH-INTERVAL;VALUE=DURATION:PT1H
X-Robots-Tag:noindex
X-PUBLISHED-TTL:PT1H
BEGIN:VTIMEZONE
TZID:Europe/Moscow
BEGIN:STANDARD
TZOFFSETFROM:+0300
TZOFFSETTO:+0300
TZNAME:MSK
DTSTART:20220101T000000
END:STANDARD
END:VTIMEZONE
BEGIN:VEVENT
DTSTART;TZID=Europe/Moscow:20230821T210000
DTEND;TZID=Europe/Moscow:20230821T230000
DTSTAMP:20260420T022430
CREATED:20230731T142221Z
LAST-MODIFIED:20230731T142221Z
UID:4126-1692651600-1692658800@kasos-heroicisland.gr
SUMMARY:ΕΛΕΥΘΕΡΙΑ ΖΑΡΑΚΗ
DESCRIPTION:Συναυλία “Τραγούδια για τον έρωτα”
URL:https://kasos-heroicisland.gr/event/eleytheria-zaraki/
LOCATION:Παλίο Γυμνάσιο
CATEGORIES:Εκδηλώσεις
ATTACH;FMTTYPE=image/jpeg:https://kasos-heroicisland.gr/wp-content/uploads/2021/11/FEFW.jpg
END:VEVENT
END:VCALENDAR