BEGIN:VCALENDAR
VERSION:2.0
PRODID:-//Δήμος Ηρ.Ν.Κάσου - ECPv6.15.14//NONSGML v1.0//EN
CALSCALE:GREGORIAN
METHOD:PUBLISH
X-ORIGINAL-URL:https://kasos-heroicisland.gr
X-WR-CALDESC:Events for Δήμος Ηρ.Ν.Κάσου
REFRESH-INTERVAL;VALUE=DURATION:PT1H
X-Robots-Tag:noindex
X-PUBLISHED-TTL:PT1H
BEGIN:VTIMEZONE
TZID:Europe/Moscow
BEGIN:STANDARD
TZOFFSETFROM:+0300
TZOFFSETTO:+0300
TZNAME:MSK
DTSTART:20230101T000000
END:STANDARD
END:VTIMEZONE
BEGIN:VEVENT
DTSTART;TZID=Europe/Moscow:20240420T180000
DTEND;TZID=Europe/Moscow:20240422T120000
DTSTAMP:20260420T095007
CREATED:20240412T192110Z
LAST-MODIFIED:20240412T192110Z
UID:4606-1713636000-1713787200@kasos-heroicisland.gr
SUMMARY:ΕΚΣΤΡΑΤΕΙΑ ΓΙΑ ΤΟ ΣΑΚΧΑΡΩΔΗ ΔΙΑΒΗΤΗ
DESCRIPTION:
URL:https://kasos-heroicisland.gr/event/ekstrateia-gia-to-sakcharodi-diaviti/
LOCATION:Κάσος Στο Περιφερεριακό Ιατρείο
CATEGORIES:Εκδηλώσεις
ATTACH;FMTTYPE=image/jpeg:https://kasos-heroicisland.gr/wp-content/uploads/2021/11/FEFW.jpg
END:VEVENT
END:VCALENDAR