BEGIN:VCALENDAR
VERSION:2.0
PRODID:-//Δήμος Ηρ.Ν.Κάσου - ECPv6.15.14//NONSGML v1.0//EN
CALSCALE:GREGORIAN
METHOD:PUBLISH
X-ORIGINAL-URL:https://kasos-heroicisland.gr
X-WR-CALDESC:Events for Δήμος Ηρ.Ν.Κάσου
REFRESH-INTERVAL;VALUE=DURATION:PT1H
X-Robots-Tag:noindex
X-PUBLISHED-TTL:PT1H
BEGIN:VTIMEZONE
TZID:Europe/Moscow
BEGIN:STANDARD
TZOFFSETFROM:+0300
TZOFFSETTO:+0300
TZNAME:MSK
DTSTART:20230101T000000
END:STANDARD
END:VTIMEZONE
BEGIN:VEVENT
DTSTART;TZID=Europe/Moscow:20240606T103000
DTEND;TZID=Europe/Moscow:20240616T230000
DTSTAMP:20260420T133520
CREATED:20240605T180352Z
LAST-MODIFIED:20240605T180352Z
UID:4711-1717669800-1718578800@kasos-heroicisland.gr
SUMMARY:Για την επέτειο μνήμης των 200 χρόνων απο το ΟΛΟΚΑΥΤΩΜΑ της Ηρωικής Νήσου Κάσου
DESCRIPTION:
URL:https://kasos-heroicisland.gr/event/gia-tin-epeteio-mnimis-ton-200-chronon-apo-to-olokaytoma-tis-iroikis-nisoy-kasoy/
CATEGORIES:Εκδηλώσεις
ATTACH;FMTTYPE=image/jpeg:https://kasos-heroicisland.gr/wp-content/uploads/2021/11/FEFW.jpg
END:VEVENT
BEGIN:VEVENT
DTSTART;TZID=Europe/Moscow:20240614T180000
DTEND;TZID=Europe/Moscow:20240614T210000
DTSTAMP:20260420T133520
CREATED:20240617T160228Z
LAST-MODIFIED:20240617T160228Z
UID:4736-1718388000-1718398800@kasos-heroicisland.gr
SUMMARY:Προβολή ντοκυμαντέρ για τη μεγάλη προσωπικότητα του Ν.Γ.Μαυρή
DESCRIPTION:
URL:https://kasos-heroicisland.gr/event/provoli-ntokymanter-gia-ti-megali-prosopikotita-toy-n-g-mayri/
LOCATION:Δημοτική Βιβλιοθήκη
CATEGORIES:Εκδηλώσεις
ATTACH;FMTTYPE=image/jpeg:https://kasos-heroicisland.gr/wp-content/uploads/2021/11/FEFW.jpg
END:VEVENT
END:VCALENDAR