BEGIN:VCALENDAR
VERSION:2.0
PRODID:-//Δήμος Ηρ.Ν.Κάσου - ECPv6.15.14//NONSGML v1.0//EN
CALSCALE:GREGORIAN
METHOD:PUBLISH
X-ORIGINAL-URL:https://kasos-heroicisland.gr
X-WR-CALDESC:Events for Δήμος Ηρ.Ν.Κάσου
REFRESH-INTERVAL;VALUE=DURATION:PT1H
X-Robots-Tag:noindex
X-PUBLISHED-TTL:PT1H
BEGIN:VTIMEZONE
TZID:Europe/Moscow
BEGIN:STANDARD
TZOFFSETFROM:+0300
TZOFFSETTO:+0300
TZNAME:MSK
DTSTART:20220101T000000
END:STANDARD
END:VTIMEZONE
BEGIN:VEVENT
DTSTART;TZID=Europe/Moscow:20230501T120000
DTEND;TZID=Europe/Moscow:20230501T233000
DTSTAMP:20260419T185030
CREATED:20230429T115109Z
LAST-MODIFIED:20230429T115109Z
UID:3925-1682942400-1682983800@kasos-heroicisland.gr
SUMMARY:ΠΡΩΤΟΜΑΓΙΑ
DESCRIPTION:
URL:https://kasos-heroicisland.gr/event/protomagia/
LOCATION:Άγιος Κωνσταντίνος\, Greece
CATEGORIES:Εκδηλώσεις
ATTACH;FMTTYPE=image/jpeg:https://kasos-heroicisland.gr/wp-content/uploads/2021/11/FEFW.jpg
END:VEVENT
BEGIN:VEVENT
DTSTART;TZID=Europe/Moscow:20230509T180000
DTEND;TZID=Europe/Moscow:20230509T200000
DTSTAMP:20260419T185030
CREATED:20230430T135544Z
LAST-MODIFIED:20230430T135544Z
UID:3931-1683655200-1683662400@kasos-heroicisland.gr
SUMMARY:Το αληθινό νόημα της συζυγίας
DESCRIPTION:
URL:https://kasos-heroicisland.gr/event/to-alithino-noima-tis-syzygias/
LOCATION:Αίθουσα Εκδηλώσεων Αγίας Μαρίνας
CATEGORIES:Εκδηλώσεις
ATTACH;FMTTYPE=image/jpeg:https://kasos-heroicisland.gr/wp-content/uploads/2021/11/FEFW.jpg
END:VEVENT
END:VCALENDAR