BEGIN:VCALENDAR
VERSION:2.0
PRODID:-//Δήμος Ηρ.Ν.Κάσου - ECPv6.15.14//NONSGML v1.0//EN
CALSCALE:GREGORIAN
METHOD:PUBLISH
X-ORIGINAL-URL:https://kasos-heroicisland.gr
X-WR-CALDESC:Events for Δήμος Ηρ.Ν.Κάσου
REFRESH-INTERVAL;VALUE=DURATION:PT1H
X-Robots-Tag:noindex
X-PUBLISHED-TTL:PT1H
BEGIN:VTIMEZONE
TZID:Europe/Moscow
BEGIN:STANDARD
TZOFFSETFROM:+0300
TZOFFSETTO:+0300
TZNAME:MSK
DTSTART:20220101T000000
END:STANDARD
END:VTIMEZONE
BEGIN:VEVENT
DTSTART;TZID=Europe/Moscow:20230711T210000
DTEND;TZID=Europe/Moscow:20230711T230000
DTSTAMP:20260419T224444
CREATED:20230704T152325Z
LAST-MODIFIED:20230704T152325Z
UID:4037-1689109200-1689116400@kasos-heroicisland.gr
SUMMARY:Θεατρική Παράσταση ΔΑΦΝΕΣ πικροδάφνες
DESCRIPTION:
URL:https://kasos-heroicisland.gr/event/theatriki-parastasi-dafnes-pikrodafnes/
LOCATION:Δημοτικό Σχολείο – Φρυ
CATEGORIES:Εκδηλώσεις
ATTACH;FMTTYPE=image/jpeg:https://kasos-heroicisland.gr/wp-content/uploads/2021/11/FEFW.jpg
END:VEVENT
BEGIN:VEVENT
DTSTART;TZID=Europe/Moscow:20230715T173000
DTEND;TZID=Europe/Moscow:20230715T210000
DTSTAMP:20260419T224444
CREATED:20230712T195621Z
LAST-MODIFIED:20230712T195621Z
UID:4060-1689442200-1689454800@kasos-heroicisland.gr
SUMMARY:ΠΕΖΟΠΟΡΙΑ ΣΤΗΝ ΔΙΑΔΡΟΜΗ 06
DESCRIPTION:Αφετηρία ΑΓ.Χαδίες \n \n 
URL:https://kasos-heroicisland.gr/event/pezoporia-stin-diadromi-06/
LOCATION:ΑΓ.Χαδίες\, Greece
CATEGORIES:Εκδηλώσεις
ATTACH;FMTTYPE=image/jpeg:https://kasos-heroicisland.gr/wp-content/uploads/2021/11/FEFW.jpg
END:VEVENT
BEGIN:VEVENT
DTSTART;TZID=Europe/Moscow:20230730T180000
DTEND;TZID=Europe/Moscow:20230805T220000
DTSTAMP:20260419T224444
CREATED:20230731T132353Z
LAST-MODIFIED:20230731T155901Z
UID:4095-1690740000-1691272800@kasos-heroicisland.gr
SUMMARY:"ΟΙ ΜΙΚΡΟΙ ΠΙΚΑΣΟ ΑΠΟ ΤΗΝ ΚΑΣΟ"
DESCRIPTION:30/7 έως 04/08 και ώρα 18:00 – 20:00
URL:https://kasos-heroicisland.gr/event/quot-oi-mikroi-pikaso-apo-tin-kaso-quot/
LOCATION:Γήπεδο 5χ5\, Greece
CATEGORIES:Εκδηλώσεις
ATTACH;FMTTYPE=image/jpeg:https://kasos-heroicisland.gr/wp-content/uploads/2021/11/FEFW.jpg
END:VEVENT
BEGIN:VEVENT
DTSTART;TZID=Europe/Moscow:20230730T210000
DTEND;TZID=Europe/Moscow:20230730T230000
DTSTAMP:20260419T224444
CREATED:20230712T200143Z
LAST-MODIFIED:20230712T200143Z
UID:4067-1690750800-1690758000@kasos-heroicisland.gr
SUMMARY:ΤΑΡΤΑ ΡΟΔΑΚΙΝΟ
DESCRIPTION:Θεατρική παράσταση 
URL:https://kasos-heroicisland.gr/event/tarta-rodakino/
LOCATION:Δημοτικό Σχολείο – Φρυ
CATEGORIES:Εκδηλώσεις
ATTACH;FMTTYPE=image/jpeg:https://kasos-heroicisland.gr/wp-content/uploads/2021/11/FEFW.jpg
END:VEVENT
BEGIN:VEVENT
DTSTART;TZID=Europe/Moscow:20230731T203000
DTEND;TZID=Europe/Moscow:20230731T220000
DTSTAMP:20260419T224444
CREATED:20230712T200424Z
LAST-MODIFIED:20230712T200424Z
UID:4070-1690835400-1690840800@kasos-heroicisland.gr
SUMMARY:ΕΓΚΑΙΝΙΑ  ΑΜΦΙΘΕΑΤΡΟΥ
DESCRIPTION:Εγκαίνια αμφιθεάτρου αυλής παλίου γυμνασίου.
URL:https://kasos-heroicisland.gr/event/egkainia-amfitheatroy/
LOCATION:Παλίο Γυμνάσιο
CATEGORIES:Εκδηλώσεις
ATTACH;FMTTYPE=image/jpeg:https://kasos-heroicisland.gr/wp-content/uploads/2021/11/FEFW.jpg
END:VEVENT
END:VCALENDAR