BEGIN:VCALENDAR
VERSION:2.0
PRODID:-//Δήμος Ηρ.Ν.Κάσου - ECPv6.15.14//NONSGML v1.0//EN
CALSCALE:GREGORIAN
METHOD:PUBLISH
X-ORIGINAL-URL:https://kasos-heroicisland.gr
X-WR-CALDESC:Events for Δήμος Ηρ.Ν.Κάσου
REFRESH-INTERVAL;VALUE=DURATION:PT1H
X-Robots-Tag:noindex
X-PUBLISHED-TTL:PT1H
BEGIN:VTIMEZONE
TZID:Europe/Moscow
BEGIN:STANDARD
TZOFFSETFROM:+0300
TZOFFSETTO:+0300
TZNAME:MSK
DTSTART:20240101T000000
END:STANDARD
END:VTIMEZONE
BEGIN:VEVENT
DTSTART;TZID=Europe/Moscow:20250522T190000
DTEND;TZID=Europe/Moscow:20250522T210000
DTSTAMP:20260423T120731
CREATED:20250520T163452Z
LAST-MODIFIED:20250520T163522Z
UID:5416-1747940400-1747947600@kasos-heroicisland.gr
SUMMARY:ΣΥΝΑΝΤΗΣΗ ΑΦΗΓΗΣΗΣ ΠΡΟΦΟΡΙΚΗΣ ΙΣΤΟΡΙΑΣ
DESCRIPTION:Με  αφορμή την παραγωγή του μικρού μήκους ντοκιμαντέρ «Γυρεύοντας την Αργαδιά»\, την Πέμπτη 22 Μαΐου\, στις 19.00 το απόγευμα\, στην Βιβλιοθήκη στο Φρύ θα γίνει συνάντηση αφήγησης προφορικής ιστορίας για το έθιμο της αργαδιάς και την τέχνη της Πέτρας στην Κάσο. \nΣας καλούμε όλους\, όσους έχετε συμμετάσχει σε αργαδιά\, όσους είστε τεχνίτες της πέτρας\, όσους είχατε κάποιο πάππου ή πατέρα που ήταν τεχνίτης ή απλά όσους αγαπάτε και θαυμάζετε τις ξερολιθικές κατασκευές να έρθετε για να αφηγηθείτε την δική σας σχετική μαρτυρία. \nΣτο πλαίσιο της εκδήλωσης θα γίνει και προβολή του ντοκιμαντέρ «Συλλογική Εργασία» (διάρκειας 13 λεπτών) το οποίο καταγράφει αντίστοιχο έθιμο που υπάρχει στην Τήλο.  \nΤο ντοκιμαντέρ “Γυρεύοντας την Αργαδιά” καθώς και οι παράλληλες εκδηλώσεις πραγματοποιούνται στο πλαίσιο της δράσης “Το Παρελθόν και το Μέλλον της Ξερολιθιάς στην Κάσο” που υλοποιείται από το Δήμο Η.Ν.Κάσου\, με την υποστήριξη της ΑΜΚΕ COMM’ON\, τη συνεργασία των Περιπατητών Κάσου\, και την αιγίδα και επιχορήγηση του Υπουργείου Πολιτισμού.
URL:https://kasos-heroicisland.gr/event/synantisi-afigisis-proforikis-istorias/
LOCATION:Δημοτική Βιβλιοθήκη
CATEGORIES:Εκδηλώσεις
ATTACH;FMTTYPE=image/jpeg:https://kasos-heroicisland.gr/wp-content/uploads/2021/11/FEFW.jpg
END:VEVENT
END:VCALENDAR